BEGIN:VCALENDAR
VERSION:2.0
PRODID:-//wp-events-plugin.com//7.2.3.1//EN
TZID:America/Sao_Paulo
X-WR-TIMEZONE:America/Sao_Paulo
BEGIN:VEVENT
UID:47@eepal.com.br
DTSTART;TZID=America/Sao_Paulo;VALUE=DATE:20240831
DTEND;TZID=America/Sao_Paulo;VALUE=DATE:20240902
DTSTAMP:20240104T233303Z
URL:https://eepal.com.br/events/curso-profissionalizante-reiki-espiritual-
 quantico-nivel-i-11/
SUMMARY:Curso Profissionalizante Reiki Espiritual Quântico Nível I
DESCRIPTION:O início de uma nova forma de ver o mundo!\n\nConcórdia/SC - 
 31/08 e 01/09\n\nContatos: Placida (49) 99985-5742|Juci (49) 98905-1428
END:VEVENT
BEGIN:VTIMEZONE
TZID:America/Sao_Paulo
X-LIC-LOCATION:America/Sao_Paulo
BEGIN:STANDARD
DTSTART:20230901T000000
TZOFFSETFROM:-0300
TZOFFSETTO:-0300
TZNAME:-03
END:STANDARD
END:VTIMEZONE
END:VCALENDAR