BEGIN:VCALENDAR
VERSION:2.0
PRODID:-//wp-events-plugin.com//7.2.3.1//EN
TZID:America/Sao_Paulo
X-WR-TIMEZONE:America/Sao_Paulo
BEGIN:VEVENT
UID:39@eepal.com.br
DTSTART;TZID=America/Sao_Paulo:20240518T000000
DTEND;TZID=America/Sao_Paulo:20240519T000000
DTSTAMP:20240104T232836Z
URL:https://eepal.com.br/events/curso-profissionalizante-reiki-espiritual-
 quantico-nivel-i-3/
SUMMARY:Curso Profissionalizante Reiki Espiritual Quântico Nível I
DESCRIPTION:Canalize a energia universal e promova a cura dos seres atravé
 s da imposição das mãos.\n\nSão Lourenço do Oeste/SC - 18 e 19 de mai
 o\n\nLoriva: (49) 98434-0543|Olimpio: (49) 98407-0529
END:VEVENT
BEGIN:VTIMEZONE
TZID:America/Sao_Paulo
X-LIC-LOCATION:America/Sao_Paulo
BEGIN:STANDARD
DTSTART:20230519T000000
TZOFFSETFROM:-0300
TZOFFSETTO:-0300
TZNAME:-03
END:STANDARD
END:VTIMEZONE
END:VCALENDAR