BEGIN:VCALENDAR
VERSION:2.0
PRODID:-//wp-events-plugin.com//7.2.3.1//EN
TZID:America/Sao_Paulo
X-WR-TIMEZONE:America/Sao_Paulo
BEGIN:VEVENT
UID:54@eepal.com.br
DTSTART;TZID=America/Sao_Paulo;VALUE=DATE:20241123
DTEND;TZID=America/Sao_Paulo;VALUE=DATE:20241125
DTSTAMP:20240104T233755Z
URL:https://eepal.com.br/events/curso-profissionalizante-reiki-espiritual-
 quantico-nivel-ii-2/
SUMMARY:Curso Profissionalizante Reiki Espiritual Quântico Nível II
DESCRIPTION:Mais um passo na sua evolução!\n\nErechim/RS - 23 e 24 de nov
 embro\n\nContatos: Mari (54) 99994-4575|Jussara (54) 999619-4952
END:VEVENT
BEGIN:VTIMEZONE
TZID:America/Sao_Paulo
X-LIC-LOCATION:America/Sao_Paulo
BEGIN:STANDARD
DTSTART:20231124T000000
TZOFFSETFROM:-0300
TZOFFSETTO:-0300
TZNAME:-03
END:STANDARD
END:VTIMEZONE
END:VCALENDAR