BEGIN:VCALENDAR
VERSION:2.0
PRODID:-//wp-events-plugin.com//7.2.3.1//EN
TZID:America/Sao_Paulo
X-WR-TIMEZONE:America/Sao_Paulo
BEGIN:VEVENT
UID:55@eepal.com.br
DTSTART;TZID=America/Sao_Paulo;VALUE=DATE:20241207
DTEND;TZID=America/Sao_Paulo;VALUE=DATE:20241209
DTSTAMP:20240104T233836Z
URL:https://eepal.com.br/events/curso-profissionalizante-reiki-espiritual-
 quantico-nivel-iii-2/
SUMMARY:Curso Profissionalizante Reiki Espiritual Quântico Nível III
DESCRIPTION:A sua hora de se tornar um Mestre!\n\nChapecó/SC - 07 e 08 de 
 dezembro\n\nContatos: Loriva: (49) 98434-0543|Olimpio: (49) 98407-0529|Car
 ol: (49) 99950-1919
END:VEVENT
BEGIN:VTIMEZONE
TZID:America/Sao_Paulo
X-LIC-LOCATION:America/Sao_Paulo
BEGIN:STANDARD
DTSTART:20231208T000000
TZOFFSETFROM:-0300
TZOFFSETTO:-0300
TZNAME:-03
END:STANDARD
END:VTIMEZONE
END:VCALENDAR