BEGIN:VCALENDAR
VERSION:2.0
PRODID:-//wp-events-plugin.com//7.2.3.1//EN
TZID:America/Sao_Paulo
X-WR-TIMEZONE:America/Sao_Paulo
BEGIN:VEVENT
UID:53@eepal.com.br
DTSTART;TZID=America/Sao_Paulo;VALUE=DATE:20241116
DTEND;TZID=America/Sao_Paulo;VALUE=DATE:20241118
DTSTAMP:20240104T233721Z
URL:https://eepal.com.br/events/curso-profissionalizante-reiki-espiritual-
 quantico-nivel-iii/
SUMMARY:Curso Profissionalizante Reiki Espiritual Quântico Nível III
DESCRIPTION:Encerramento de um ciclo de evolução na sua jornada!\n\nBento
  Gonçalves/RS - 16 e 17 de novembro\n\nContatos: Lenira: (54) 99684-8887|
 Luana (54) 99905-2662
END:VEVENT
BEGIN:VTIMEZONE
TZID:America/Sao_Paulo
X-LIC-LOCATION:America/Sao_Paulo
BEGIN:STANDARD
DTSTART:20231117T000000
TZOFFSETFROM:-0300
TZOFFSETTO:-0300
TZNAME:-03
END:STANDARD
END:VTIMEZONE
END:VCALENDAR