BEGIN:VCALENDAR
VERSION:2.0
PRODID:-//wp-events-plugin.com//7.2.3.1//EN
TZID:America/Sao_Paulo
X-WR-TIMEZONE:America/Sao_Paulo
BEGIN:VEVENT
UID:61@eepal.com.br
DTSTART;TZID=America/Sao_Paulo;VALUE=DATE:20250524
DTEND;TZID=America/Sao_Paulo;VALUE=DATE:20250526
DTSTAMP:20250114T214235Z
URL:https://eepal.com.br/events/curso-profissionalizante-reiki-quantico-ni
 vel-i-ampere-pr-24-e-25-de-maio/
SUMMARY:Curso Profissionalizante Reiki Quântico Nível I - Ampére/PR - 24
  e 25 de maio
DESCRIPTION:Curso Profissionalizante Reiki Quântico Nível I\nInicie sua j
 ornada como terapeuta quântico através desse curso.\n\nAmpére/PR - 24 e
  25 de maio\n\nTere: (46) 99979-0607|Rosane: (46) 99979-0505|Nayane: (46) 
 99109-6686
END:VEVENT
BEGIN:VTIMEZONE
TZID:America/Sao_Paulo
X-LIC-LOCATION:America/Sao_Paulo
BEGIN:STANDARD
DTSTART:20240524T000000
TZOFFSETFROM:-0300
TZOFFSETTO:-0300
TZNAME:-03
END:STANDARD
END:VTIMEZONE
END:VCALENDAR