BEGIN:VCALENDAR
VERSION:2.0
PRODID:-//wp-events-plugin.com//7.2.3.1//EN
TZID:America/Sao_Paulo
X-WR-TIMEZONE:America/Sao_Paulo
BEGIN:VEVENT
UID:59@eepal.com.br
DTSTART;TZID=America/Sao_Paulo;VALUE=DATE:20250412
DTEND;TZID=America/Sao_Paulo;VALUE=DATE:20250414
DTSTAMP:20250120T150606Z
URL:https://eepal.com.br/events/curso-profissionalizante-reiki-quantico-ni
 vel-i-blumenau-sc-12-e-13-de-abril/
SUMMARY:Curso Profissionalizante Reiki Quântico Nível I - Blumenau/SC - 1
 2 e 13 de abril
DESCRIPTION:Curso Profissionalizante Reiki Quântico Nível I\nA energia un
 iversal de cura para todos os seres.\n\nBlumenau/SC - 12 e 13 de abril\n\n
 Contato: Charles: (47) 98405-3486
END:VEVENT
BEGIN:VTIMEZONE
TZID:America/Sao_Paulo
X-LIC-LOCATION:America/Sao_Paulo
BEGIN:STANDARD
DTSTART:20240412T000000
TZOFFSETFROM:-0300
TZOFFSETTO:-0300
TZNAME:-03
END:STANDARD
END:VTIMEZONE
END:VCALENDAR