BEGIN:VCALENDAR
VERSION:2.0
PRODID:-//wp-events-plugin.com//7.2.3.1//EN
TZID:America/Sao_Paulo
X-WR-TIMEZONE:America/Sao_Paulo
BEGIN:VEVENT
UID:15@eepal.com.br
DTSTART;TZID=America/Sao_Paulo;VALUE=DATE:20230520
DTEND;TZID=America/Sao_Paulo;VALUE=DATE:20230522
DTSTAMP:20230112T203818Z
URL:https://eepal.com.br/events/curso-profissionalizante-reiki-quantico-ni
 vel-i-blumenau-sc/
SUMMARY:Curso Profissionalizante Reiki Quântico Nível I - Blumenau/SC
DESCRIPTION:Curso Profissionalizante Reiki Quântico Nível I\nBlumenau/SC 
 - 20 e 21 de maio\nMestre Bianor Paulo Giordani\n\nContato: Charles: (47) 
 98405-3486
END:VEVENT
BEGIN:VTIMEZONE
TZID:America/Sao_Paulo
X-LIC-LOCATION:America/Sao_Paulo
BEGIN:STANDARD
DTSTART:20220520T000000
TZOFFSETFROM:-0300
TZOFFSETTO:-0300
TZNAME:-03
END:STANDARD
END:VTIMEZONE
END:VCALENDAR