BEGIN:VCALENDAR
VERSION:2.0
PRODID:-//wp-events-plugin.com//7.2.3.1//EN
TZID:America/Sao_Paulo
X-WR-TIMEZONE:America/Sao_Paulo
BEGIN:VEVENT
UID:62@eepal.com.br
DTSTART;TZID=America/Sao_Paulo;VALUE=DATE:20250614
DTEND;TZID=America/Sao_Paulo;VALUE=DATE:20250616
DTSTAMP:20250114T214325Z
URL:https://eepal.com.br/events/curso-profissionalizante-reiki-quantico-ni
 vel-i-chapeco-sc-14-e-15-de-junho/
SUMMARY:Curso Profissionalizante Reiki Quântico Nível I - Chapecó/SC -14
  e 15 de junho
DESCRIPTION:Curso Profissionalizante Reiki Quântico Nível I\nLeve cura e 
 transforme vidas através do Reiki.\n\nChapecó/SC -14 e 15 de junho\n\nCo
 ntatos: Loriva: (49) 98434-0543|Olimpio: (49) 98407-0529|Carol: (49) 99950
 -1919
END:VEVENT
BEGIN:VTIMEZONE
TZID:America/Sao_Paulo
X-LIC-LOCATION:America/Sao_Paulo
BEGIN:STANDARD
DTSTART:20240614T000000
TZOFFSETFROM:-0300
TZOFFSETTO:-0300
TZNAME:-03
END:STANDARD
END:VTIMEZONE
END:VCALENDAR