BEGIN:VCALENDAR
VERSION:2.0
PRODID:-//wp-events-plugin.com//7.2.3.1//EN
TZID:America/Sao_Paulo
X-WR-TIMEZONE:America/Sao_Paulo
BEGIN:VEVENT
UID:60@eepal.com.br
DTSTART;TZID=America/Sao_Paulo;VALUE=DATE:20250426
DTEND;TZID=America/Sao_Paulo;VALUE=DATE:20250428
DTSTAMP:20250120T150620Z
URL:https://eepal.com.br/events/curso-profissionalizante-reiki-quantico-ni
 vel-i-joacaba-sc-26-e-27-de-abril/
SUMMARY:Curso Profissionalizante Reiki Quântico Nível I - Joaçaba/SC - 2
 6 e 27 de abril
DESCRIPTION:Curso Profissionalizante Reiki Quântico Nível I\nComece uma j
 ornada de cura e transformação na sua vida.\nJoaçaba/SC - 26 e 27 de ab
 ril\nContato: Ricardo (49) 99971-2870 | Angélica (49) 99928-0290
END:VEVENT
BEGIN:VTIMEZONE
TZID:America/Sao_Paulo
X-LIC-LOCATION:America/Sao_Paulo
BEGIN:STANDARD
DTSTART:20240426T000000
TZOFFSETFROM:-0300
TZOFFSETTO:-0300
TZNAME:-03
END:STANDARD
END:VTIMEZONE
END:VCALENDAR