BEGIN:VCALENDAR
VERSION:2.0
PRODID:-//wp-events-plugin.com//7.2.3.1//EN
TZID:America/Sao_Paulo
X-WR-TIMEZONE:America/Sao_Paulo
BEGIN:VEVENT
UID:30@eepal.com.br
DTSTART;TZID=America/Sao_Paulo;VALUE=DATE:20230624
DTEND;TZID=America/Sao_Paulo;VALUE=DATE:20230626
DTSTAMP:20230614T171758Z
URL:https://eepal.com.br/events/curso-profissionalizante-reiki-quantico-ni
 vel-i/
SUMMARY:Curso Profissionalizante Reiki Quântico Nível I
DESCRIPTION:Curso Profissionalizante Reiki Quântico Nível I\nPasso Fundo/
 RS - 24 e 25 junho\nMestre Bianor Paulo Giordani\nContato: Fabi (54) 99144
 -4336
END:VEVENT
BEGIN:VTIMEZONE
TZID:America/Sao_Paulo
X-LIC-LOCATION:America/Sao_Paulo
BEGIN:STANDARD
DTSTART:20220624T000000
TZOFFSETFROM:-0300
TZOFFSETTO:-0300
TZNAME:-03
END:STANDARD
END:VTIMEZONE
END:VCALENDAR