BEGIN:VCALENDAR
VERSION:2.0
PRODID:-//wp-events-plugin.com//7.2.3.1//EN
TZID:America/Sao_Paulo
X-WR-TIMEZONE:America/Sao_Paulo
BEGIN:VEVENT
UID:52@eepal.com.br
DTSTART;TZID=America/Sao_Paulo;VALUE=DATE:20241101
DTEND;TZID=America/Sao_Paulo;VALUE=DATE:20241104
DTSTAMP:20240104T233645Z
URL:https://eepal.com.br/events/epal-quantum-experience/
SUMMARY:Epal Quantum Experience
DESCRIPTION:Uma imersão profunda na sua jornada evolutiva!\n\n01\, 02 e 03
  de novembro\n\nContatos: Carmen (49) 9 9971-0746 | Fernando (54) 9 9123-9
 013
END:VEVENT
BEGIN:VTIMEZONE
TZID:America/Sao_Paulo
X-LIC-LOCATION:America/Sao_Paulo
BEGIN:STANDARD
DTSTART:20231102T000000
TZOFFSETFROM:-0300
TZOFFSETTO:-0300
TZNAME:-03
END:STANDARD
END:VTIMEZONE
END:VCALENDAR